BEGIN:VCALENDAR
VERSION:2.0
PRODID:-//Interessengemeinschaft Arthrogryposis e.V. - ECPv6.15.20//NONSGML v1.0//EN
CALSCALE:GREGORIAN
METHOD:PUBLISH
X-ORIGINAL-URL:https://arthrogryposis.de
X-WR-CALDESC:Veranstaltungen für Interessengemeinschaft Arthrogryposis e.V.
REFRESH-INTERVAL;VALUE=DURATION:PT1H
X-Robots-Tag:noindex
X-PUBLISHED-TTL:PT1H
BEGIN:VTIMEZONE
TZID:Europe/Berlin
BEGIN:DAYLIGHT
TZOFFSETFROM:+0100
TZOFFSETTO:+0200
TZNAME:CEST
DTSTART:20250330T010000
END:DAYLIGHT
BEGIN:STANDARD
TZOFFSETFROM:+0200
TZOFFSETTO:+0100
TZNAME:CET
DTSTART:20251026T010000
END:STANDARD
BEGIN:DAYLIGHT
TZOFFSETFROM:+0100
TZOFFSETTO:+0200
TZNAME:CEST
DTSTART:20260329T010000
END:DAYLIGHT
BEGIN:STANDARD
TZOFFSETFROM:+0200
TZOFFSETTO:+0100
TZNAME:CET
DTSTART:20261025T010000
END:STANDARD
BEGIN:DAYLIGHT
TZOFFSETFROM:+0100
TZOFFSETTO:+0200
TZNAME:CEST
DTSTART:20270328T010000
END:DAYLIGHT
BEGIN:STANDARD
TZOFFSETFROM:+0200
TZOFFSETTO:+0100
TZNAME:CET
DTSTART:20271031T010000
END:STANDARD
END:VTIMEZONE
BEGIN:VEVENT
DTSTART;TZID=Europe/Berlin:20260101T140000
DTEND;TZID=Europe/Berlin:20260101T160000
DTSTAMP:20260423T203013
CREATED:20251216T215539Z
LAST-MODIFIED:20251230T211055Z
UID:2493-1767276000-1767283200@arthrogryposis.de
SUMMARY:Katerfrühstück Online
DESCRIPTION:Wir möchten Dich am Montag\, den 1. Januar 2026 um 14:00 Uhr zum „Katerfrühstück“ einladen. \nDen Kater\, Aspirin\, einen Hering und ein gutes Getränk musst Du leider selber mitbringen. \nWir möchten mit Dir den Jahresauftakt verbringen und auf ein besseres neues Jahr anstoßen. \nDer Link zum Katerfrühstück wird separat per Newsletter versendet oder kann gerne über E-Mail an sylvia.seel@arthrogryposis.de angefragt werden.
URL:https://arthrogryposis.de/event/katerfruehstueck-online-2026/
CATEGORIES:Treffen
ATTACH;FMTTYPE=image/jpeg:https://arthrogryposis.de/wp-content/uploads/2023/12/AdobeStock_411640141.jpg
END:VEVENT
BEGIN:VEVENT
DTSTART;TZID=Europe/Berlin:20260127T193000
DTEND;TZID=Europe/Berlin:20260127T220000
DTSTAMP:20260423T203013
CREATED:20250901T174256Z
LAST-MODIFIED:20260119T230122Z
UID:2407-1769542200-1769551200@arthrogryposis.de
SUMMARY:Austauschtreffen für junge/neue Eltern
DESCRIPTION:Wir möchten ganz herzlich zum Austauschtreffen für Eltern / werdende Eltern und Bezugspersonen von Kindern mit AMC einladen. \nWann: am Dienstag\, den 27. Januar 2026\num 19:30 bis 21:30 Uhr\nunter der Moderation von Johanna Hannig \nEs geht um Infos und Austausch. \nDen Link zum Meeting erhaltet Ihr über unseren Newsletter oder auf Anfrage.
URL:https://arthrogryposis.de/event/austauschtreffen-fuer-junge-und-neue-eltern-januar-2026/
CATEGORIES:Treffen
ATTACH;FMTTYPE=image/jpeg:https://arthrogryposis.de/wp-content/uploads/2024/05/featured-image-inklusion-bildung-sovd.jpg
END:VEVENT
END:VCALENDAR