BEGIN:VCALENDAR
VERSION:2.0
PRODID:-//Interessengemeinschaft Arthrogryposis e.V. - ECPv6.15.20//NONSGML v1.0//EN
CALSCALE:GREGORIAN
METHOD:PUBLISH
X-WR-CALNAME:Interessengemeinschaft Arthrogryposis e.V.
X-ORIGINAL-URL:https://arthrogryposis.de
X-WR-CALDESC:Veranstaltungen für Interessengemeinschaft Arthrogryposis e.V.
REFRESH-INTERVAL;VALUE=DURATION:PT1H
X-Robots-Tag:noindex
X-PUBLISHED-TTL:PT1H
BEGIN:VTIMEZONE
TZID:Europe/Berlin
BEGIN:DAYLIGHT
TZOFFSETFROM:+0100
TZOFFSETTO:+0200
TZNAME:CEST
DTSTART:20260329T010000
END:DAYLIGHT
BEGIN:STANDARD
TZOFFSETFROM:+0200
TZOFFSETTO:+0100
TZNAME:CET
DTSTART:20261025T010000
END:STANDARD
BEGIN:DAYLIGHT
TZOFFSETFROM:+0100
TZOFFSETTO:+0200
TZNAME:CEST
DTSTART:20270328T010000
END:DAYLIGHT
BEGIN:STANDARD
TZOFFSETFROM:+0200
TZOFFSETTO:+0100
TZNAME:CET
DTSTART:20271031T010000
END:STANDARD
BEGIN:DAYLIGHT
TZOFFSETFROM:+0100
TZOFFSETTO:+0200
TZNAME:CEST
DTSTART:20280326T010000
END:DAYLIGHT
BEGIN:STANDARD
TZOFFSETFROM:+0200
TZOFFSETTO:+0100
TZNAME:CET
DTSTART:20281029T010000
END:STANDARD
END:VTIMEZONE
BEGIN:VEVENT
DTSTART;TZID=Europe/Berlin:20270506T000000
DTEND;TZID=Europe/Berlin:20270509T235959
DTSTAMP:20260422T103959
CREATED:20251019T221522Z
LAST-MODIFIED:20260119T230032Z
UID:2427-1809561600-1809907199@arthrogryposis.de
SUMMARY:19. IGA-Familientagung 2027 in Möhnesee-Günne
DESCRIPTION:Wir laden ganz herzlich zur 19. IGA-Familientagung 2027 ein. \nGerne vormerken – auch auf dieser Tagung wird es wieder besondere und vielseitige Themen für alle geben.
URL:https://arthrogryposis.de/event/19-iga-familientagung-2027-in-moehnesee-guenne/
CATEGORIES:Tagung
ATTACH;FMTTYPE=image/jpeg:https://arthrogryposis.de/wp-content/uploads/2025/03/familientagung2023-101-e1.jpg
END:VEVENT
END:VCALENDAR