BEGIN:VCALENDAR
VERSION:2.0
PRODID:-//Interessengemeinschaft Arthrogryposis e.V. - ECPv6.15.20//NONSGML v1.0//EN
CALSCALE:GREGORIAN
METHOD:PUBLISH
X-WR-CALNAME:Interessengemeinschaft Arthrogryposis e.V.
X-ORIGINAL-URL:https://arthrogryposis.de
X-WR-CALDESC:Veranstaltungen für Interessengemeinschaft Arthrogryposis e.V.
REFRESH-INTERVAL;VALUE=DURATION:PT1H
X-Robots-Tag:noindex
X-PUBLISHED-TTL:PT1H
BEGIN:VTIMEZONE
TZID:Europe/Berlin
BEGIN:DAYLIGHT
TZOFFSETFROM:+0100
TZOFFSETTO:+0200
TZNAME:CEST
DTSTART:20240331T010000
END:DAYLIGHT
BEGIN:STANDARD
TZOFFSETFROM:+0200
TZOFFSETTO:+0100
TZNAME:CET
DTSTART:20241027T010000
END:STANDARD
BEGIN:DAYLIGHT
TZOFFSETFROM:+0100
TZOFFSETTO:+0200
TZNAME:CEST
DTSTART:20250330T010000
END:DAYLIGHT
BEGIN:STANDARD
TZOFFSETFROM:+0200
TZOFFSETTO:+0100
TZNAME:CET
DTSTART:20251026T010000
END:STANDARD
BEGIN:DAYLIGHT
TZOFFSETFROM:+0100
TZOFFSETTO:+0200
TZNAME:CEST
DTSTART:20260329T010000
END:DAYLIGHT
BEGIN:STANDARD
TZOFFSETFROM:+0200
TZOFFSETTO:+0100
TZNAME:CET
DTSTART:20261025T010000
END:STANDARD
END:VTIMEZONE
BEGIN:VEVENT
DTSTART;TZID=Europe/Berlin:20250529T000000
DTEND;TZID=Europe/Berlin:20250601T235959
DTSTAMP:20260420T101647
CREATED:20230808T202651Z
LAST-MODIFIED:20230808T202651Z
UID:1575-1748476800-1748822399@arthrogryposis.de
SUMMARY:18. IGA-Familientagung 2025 in Möhnesee-Günne
DESCRIPTION:Wir laden ganz herzlich zur 18. IGA-Familientagung 2025 ein. \nAuch auf dieser Tagung wird es wieder besondere und vielseitige Themen für alle geben. Die Tagung findet erneut im Heinrich-Lübke-Haus der KAB in 59519 Günne am Möhnesee statt. \nVon Donnerstag\, den 29. Mai 2025\, bis Sonntag\, den 1. Juni 2025\, haben wir wieder interessante Themen in einem abwechslungsreichen Rahmenprogramm für Euch zusammen­gestellt.
URL:https://arthrogryposis.de/event/iga-familientagung-2025/
CATEGORIES:Tagung
ATTACH;FMTTYPE=image/jpeg:https://arthrogryposis.de/wp-content/uploads/2023/03/featured-image_17-iga-familientagung.jpg
END:VEVENT
END:VCALENDAR