BEGIN:VCALENDAR
VERSION:2.0
PRODID:-//Interessengemeinschaft Arthrogryposis e.V. - ECPv6.15.20//NONSGML v1.0//EN
CALSCALE:GREGORIAN
METHOD:PUBLISH
X-WR-CALNAME:Interessengemeinschaft Arthrogryposis e.V.
X-ORIGINAL-URL:https://arthrogryposis.de
X-WR-CALDESC:Veranstaltungen für Interessengemeinschaft Arthrogryposis e.V.
REFRESH-INTERVAL;VALUE=DURATION:PT1H
X-Robots-Tag:noindex
X-PUBLISHED-TTL:PT1H
BEGIN:VTIMEZONE
TZID:Europe/Berlin
BEGIN:DAYLIGHT
TZOFFSETFROM:+0100
TZOFFSETTO:+0200
TZNAME:CEST
DTSTART:20220327T010000
END:DAYLIGHT
BEGIN:STANDARD
TZOFFSETFROM:+0200
TZOFFSETTO:+0100
TZNAME:CET
DTSTART:20221030T010000
END:STANDARD
BEGIN:DAYLIGHT
TZOFFSETFROM:+0100
TZOFFSETTO:+0200
TZNAME:CEST
DTSTART:20230326T010000
END:DAYLIGHT
BEGIN:STANDARD
TZOFFSETFROM:+0200
TZOFFSETTO:+0100
TZNAME:CET
DTSTART:20231029T010000
END:STANDARD
BEGIN:DAYLIGHT
TZOFFSETFROM:+0100
TZOFFSETTO:+0200
TZNAME:CEST
DTSTART:20240331T010000
END:DAYLIGHT
BEGIN:STANDARD
TZOFFSETFROM:+0200
TZOFFSETTO:+0100
TZNAME:CET
DTSTART:20241027T010000
END:STANDARD
END:VTIMEZONE
BEGIN:VEVENT
DTSTART;TZID=Europe/Berlin:20230122T140000
DTEND;TZID=Europe/Berlin:20230122T180000
DTSTAMP:20260423T134928
CREATED:20230116T211847Z
LAST-MODIFIED:20230116T211847Z
UID:1327-1674396000-1674410400@arthrogryposis.de
SUMMARY:Märchen mit Musik
DESCRIPTION:Möhnesee-Günne\, 15./16.05.201514. Familientagung der Interessengemeinschaft Arthrogryposis e.V.©Ulrike Schacht\nDie Märchenerzählerin Diana Drechsler lädt uns erneut auf eine Reise in die wunderbare und zauberhafte Welt der frei erzählten Märchen voller Magie und Lebensfreude ein. Ihre besondere Spezialität ist es\, ihre Märchenerzählungen mit Musik mit zauberischen Klängen\, einfühlsamen Melodien und lebendigen Rhythmen auf zum Teil exotischen Instrumenten wie Leier\, Sansula\, Psalter\, Ocean Drum\, div. Flöten etc. zu begleiten. Es werden nicht nur bekannte Märchen zu hören sein\, sondern auch Märchen und Fabeln aus den unterschiedlichsten Ländern und Kulturen. Lasst Euch verzaubern… \n… am Sonntag\, den 22. Januar 2023 um 14:00 Uhr! \nEine Anmeldung ist nicht notwendig\, kommt gerne einfach dazu. Der Einladungs-Link wird via E-Mail versendet.
URL:https://arthrogryposis.de/event/maerchen-mit-musik-januar-2023/
CATEGORIES:Treffen
ATTACH;FMTTYPE=image/jpeg:https://arthrogryposis.de/wp-content/uploads/2025/03/familientagung2023-101-e2.jpg
END:VEVENT
END:VCALENDAR