BEGIN:VCALENDAR
VERSION:2.0
PRODID:-//Interessengemeinschaft Arthrogryposis e.V. - ECPv6.15.20//NONSGML v1.0//EN
CALSCALE:GREGORIAN
METHOD:PUBLISH
X-WR-CALNAME:Interessengemeinschaft Arthrogryposis e.V.
X-ORIGINAL-URL:https://arthrogryposis.de
X-WR-CALDESC:Veranstaltungen für Interessengemeinschaft Arthrogryposis e.V.
REFRESH-INTERVAL;VALUE=DURATION:PT1H
X-Robots-Tag:noindex
X-PUBLISHED-TTL:PT1H
BEGIN:VTIMEZONE
TZID:Europe/Berlin
BEGIN:DAYLIGHT
TZOFFSETFROM:+0100
TZOFFSETTO:+0200
TZNAME:CEST
DTSTART:20210328T010000
END:DAYLIGHT
BEGIN:STANDARD
TZOFFSETFROM:+0200
TZOFFSETTO:+0100
TZNAME:CET
DTSTART:20211031T010000
END:STANDARD
BEGIN:DAYLIGHT
TZOFFSETFROM:+0100
TZOFFSETTO:+0200
TZNAME:CEST
DTSTART:20220327T010000
END:DAYLIGHT
BEGIN:STANDARD
TZOFFSETFROM:+0200
TZOFFSETTO:+0100
TZNAME:CET
DTSTART:20221030T010000
END:STANDARD
BEGIN:DAYLIGHT
TZOFFSETFROM:+0100
TZOFFSETTO:+0200
TZNAME:CEST
DTSTART:20230326T010000
END:DAYLIGHT
BEGIN:STANDARD
TZOFFSETFROM:+0200
TZOFFSETTO:+0100
TZNAME:CET
DTSTART:20231029T010000
END:STANDARD
END:VTIMEZONE
BEGIN:VEVENT
DTSTART;TZID=Europe/Berlin:20221027T193000
DTEND;TZID=Europe/Berlin:20221027T220000
DTSTAMP:20260419T192333
CREATED:20221013T141118Z
LAST-MODIFIED:20221013T141118Z
UID:1234-1666899000-1666908000@arthrogryposis.de
SUMMARY:Workshop für junge/neue Eltern
DESCRIPTION:Wir möchten ganz herzlich zum Info-Abend für Eltern / werdende Eltern und Bezugspersonen von Kindern mit AMC einladen. \nWann: am Donnerstag\, den 27. Oktober 2022\num 19:30 Uhr unter der Moderation von\nJohanna Hannig \nEs geht um Infos und Austausch \nDie Zugangsdaten zum Meeting sind via E-Mail versendet worden. Bei Interesse auch gerne bei Sylvia Seel anfragen.
URL:https://arthrogryposis.de/event/workshop-fuer-junge-neue-eltern-oktober-2022/
CATEGORIES:Workshop
ATTACH;FMTTYPE=image/jpeg:https://arthrogryposis.de/wp-content/uploads/2025/03/familientagung2023-101-e2.jpg
END:VEVENT
END:VCALENDAR