BEGIN:VCALENDAR
VERSION:2.0
PRODID:-//Interessengemeinschaft Arthrogryposis e.V. - ECPv6.15.20//NONSGML v1.0//EN
CALSCALE:GREGORIAN
METHOD:PUBLISH
X-ORIGINAL-URL:https://arthrogryposis.de
X-WR-CALDESC:Veranstaltungen für Interessengemeinschaft Arthrogryposis e.V.
REFRESH-INTERVAL;VALUE=DURATION:PT1H
X-Robots-Tag:noindex
X-PUBLISHED-TTL:PT1H
BEGIN:VTIMEZONE
TZID:Europe/Berlin
BEGIN:DAYLIGHT
TZOFFSETFROM:+0100
TZOFFSETTO:+0200
TZNAME:CEST
DTSTART:20210328T010000
END:DAYLIGHT
BEGIN:STANDARD
TZOFFSETFROM:+0200
TZOFFSETTO:+0100
TZNAME:CET
DTSTART:20211031T010000
END:STANDARD
BEGIN:DAYLIGHT
TZOFFSETFROM:+0100
TZOFFSETTO:+0200
TZNAME:CEST
DTSTART:20220327T010000
END:DAYLIGHT
BEGIN:STANDARD
TZOFFSETFROM:+0200
TZOFFSETTO:+0100
TZNAME:CET
DTSTART:20221030T010000
END:STANDARD
BEGIN:DAYLIGHT
TZOFFSETFROM:+0100
TZOFFSETTO:+0200
TZNAME:CEST
DTSTART:20230326T010000
END:DAYLIGHT
BEGIN:STANDARD
TZOFFSETFROM:+0200
TZOFFSETTO:+0100
TZNAME:CET
DTSTART:20231029T010000
END:STANDARD
END:VTIMEZONE
BEGIN:VEVENT
DTSTART;TZID=Europe/Berlin:20220910T120000
DTEND;TZID=Europe/Berlin:20220910T170000
DTSTAMP:20260419T173806
CREATED:20220721T184843Z
LAST-MODIFIED:20220721T184843Z
UID:1137-1662811200-1662829200@arthrogryposis.de
SUMMARY:Regionaltreffen NRW
DESCRIPTION:Wir laden herzlich ein zum Regionaltreffen Nordrhein-Westfalen.\nUnser Treffen findet am Samstag 10. September 2022 von 12:00 Uhr – 17:00 Uhr im KRUMM in Willich statt. \nDas KRUMM in Wekeln ist seit vielen Jahren Begegnungsstätte für Menschen in Willich. Der Name KRUMM (Komm Rein Und Mach Mit) ist gleichzeitig Programm. Es ist wirklich schön dort. Manche kennen es bereits von unserem letzten Treffen 2018 (auweia\, viel zu lange her!). \nNeben dem gemütlichen Beisammensein und Austausch\, haben wir als besonderes Highlight wieder die Märchenerzählerin Diana Drechsler eingeladen\, die uns – Kinder und Erwachsene – auf eine Reise in die wunderbare und zauberhafte Welt der Märchen mitnimmt (ca. 14 Uhr). \nUnser Treffen findet im ebenerdigen Bistro statt. Von da aus erreichen wir auch die Außenanlage mit Kinderspielplatz. Also\, Daumen drücken für gutes Wetter! 😉 Parkplätze sind vorhanden (Großer Parkplatz direkt gegenüber vom KRUMM). Falls jemand mit dem Zug anreisen möchte (25 km ab Düsseldorf Hbf)\, bitte uns kontaktieren. Wir müssen dann einen Shuttle-Service organisieren. \nFür ein gutes Gelingen brauchen wir eure Hilfe. Wir möchten wieder ein buntes Buffett aus mitgebrachten Kuchenspenden und Fingerfood zusammenstellen. Für Getränke in Form von Wasser und Kaffee wird gesorgt. \nWir freuen uns sehr auf Euch! 🙂 Bitte meldet euch möglichst schnell und spätestens bis zum 15.8. an\, unter sabine.lueck@arthrogryposis.de Für eine bessere Planung bitte Personenzahl und Buffett-Mitbringsel angeben. \nHerzlichst Eure Familie Lück \nPS: Bitte kontaktiert uns\, wenn ihr dazu Fragen habt.
URL:https://arthrogryposis.de/event/regionaltreffen-nrw-im-krumm-in-wekeln/
CATEGORIES:Treffen
ATTACH;FMTTYPE=image/jpeg:https://arthrogryposis.de/wp-content/uploads/2022/07/impressionen-regionaltreffen-nrw.jpg
END:VEVENT
END:VCALENDAR