BEGIN:VCALENDAR
VERSION:2.0
PRODID:-//Interessengemeinschaft Arthrogryposis e.V. - ECPv6.15.20//NONSGML v1.0//EN
CALSCALE:GREGORIAN
METHOD:PUBLISH
X-ORIGINAL-URL:https://arthrogryposis.de
X-WR-CALDESC:Veranstaltungen für Interessengemeinschaft Arthrogryposis e.V.
REFRESH-INTERVAL;VALUE=DURATION:PT1H
X-Robots-Tag:noindex
X-PUBLISHED-TTL:PT1H
BEGIN:VTIMEZONE
TZID:Europe/Berlin
BEGIN:DAYLIGHT
TZOFFSETFROM:+0100
TZOFFSETTO:+0200
TZNAME:CEST
DTSTART:20240331T010000
END:DAYLIGHT
BEGIN:STANDARD
TZOFFSETFROM:+0200
TZOFFSETTO:+0100
TZNAME:CET
DTSTART:20241027T010000
END:STANDARD
BEGIN:DAYLIGHT
TZOFFSETFROM:+0100
TZOFFSETTO:+0200
TZNAME:CEST
DTSTART:20250330T010000
END:DAYLIGHT
BEGIN:STANDARD
TZOFFSETFROM:+0200
TZOFFSETTO:+0100
TZNAME:CET
DTSTART:20251026T010000
END:STANDARD
BEGIN:DAYLIGHT
TZOFFSETFROM:+0100
TZOFFSETTO:+0200
TZNAME:CEST
DTSTART:20260329T010000
END:DAYLIGHT
BEGIN:STANDARD
TZOFFSETFROM:+0200
TZOFFSETTO:+0100
TZNAME:CET
DTSTART:20261025T010000
END:STANDARD
END:VTIMEZONE
BEGIN:VEVENT
DTSTART;TZID=Europe/Berlin:20251129T140000
DTEND;TZID=Europe/Berlin:20251129T235900
DTSTAMP:20260424T104344
CREATED:20251019T221011Z
LAST-MODIFIED:20251019T221011Z
UID:2425-1764424800-1764460740@arthrogryposis.de
SUMMARY:Stammtisch für Menschen mit AMC in Nürnberg
DESCRIPTION:Bei Interesse bitte Anmeldung an bayern@arthrogryposis.de.
URL:https://arthrogryposis.de/event/stammtisch-fuer-menschen-mit-amc-in-nuernberg-27/
CATEGORIES:Stammtisch Nürnberg,Treffen
ATTACH;FMTTYPE=image/jpeg:https://arthrogryposis.de/wp-content/uploads/2025/03/familientagung2023-101-e2.jpg
END:VEVENT
END:VCALENDAR