BEGIN:VCALENDAR
VERSION:2.0
PRODID:-//Interessengemeinschaft Arthrogryposis e.V. - ECPv6.15.20//NONSGML v1.0//EN
CALSCALE:GREGORIAN
METHOD:PUBLISH
X-ORIGINAL-URL:https://arthrogryposis.de
X-WR-CALDESC:Veranstaltungen für Interessengemeinschaft Arthrogryposis e.V.
REFRESH-INTERVAL;VALUE=DURATION:PT1H
X-Robots-Tag:noindex
X-PUBLISHED-TTL:PT1H
BEGIN:VTIMEZONE
TZID:Europe/Berlin
BEGIN:DAYLIGHT
TZOFFSETFROM:+0100
TZOFFSETTO:+0200
TZNAME:CEST
DTSTART:20220327T010000
END:DAYLIGHT
BEGIN:STANDARD
TZOFFSETFROM:+0200
TZOFFSETTO:+0100
TZNAME:CET
DTSTART:20221030T010000
END:STANDARD
BEGIN:DAYLIGHT
TZOFFSETFROM:+0100
TZOFFSETTO:+0200
TZNAME:CEST
DTSTART:20230326T010000
END:DAYLIGHT
BEGIN:STANDARD
TZOFFSETFROM:+0200
TZOFFSETTO:+0100
TZNAME:CET
DTSTART:20231029T010000
END:STANDARD
BEGIN:DAYLIGHT
TZOFFSETFROM:+0100
TZOFFSETTO:+0200
TZNAME:CEST
DTSTART:20240331T010000
END:DAYLIGHT
BEGIN:STANDARD
TZOFFSETFROM:+0200
TZOFFSETTO:+0100
TZNAME:CET
DTSTART:20241027T010000
END:STANDARD
END:VTIMEZONE
BEGIN:VEVENT
DTSTART;TZID=Europe/Berlin:20230928T000000
DTEND;TZID=Europe/Berlin:20230929T235959
DTSTAMP:20260424T082740
CREATED:20230518T101848Z
LAST-MODIFIED:20230518T101848Z
UID:1431-1695859200-1696031999@arthrogryposis.de
SUMMARY:NAKSE 2023: Die 3. Nationale Konferenz zu Seltenen Erkrankungen
DESCRIPTION:Ort: Online / Berlin
URL:https://arthrogryposis.de/event/nakse-2023-die-3-nationale-konferenz-zu-seltenen-erkrankungen/
CATEGORIES:Konferenz
ATTACH;FMTTYPE=image/jpeg:https://arthrogryposis.de/wp-content/uploads/2025/03/familientagung2023-101-e2.jpg
END:VEVENT
END:VCALENDAR